BEGIN:VCALENDAR
VERSION:2.0
PRODID:-//SEAsia-CDx - ECPv6.15.20//NONSGML v1.0//EN
CALSCALE:GREGORIAN
METHOD:PUBLISH
X-WR-CALNAME:SEAsia-CDx
X-ORIGINAL-URL:https://www.seasia-cdx.com
X-WR-CALDESC:Events for SEAsia-CDx
REFRESH-INTERVAL;VALUE=DURATION:PT1H
X-Robots-Tag:noindex
X-PUBLISHED-TTL:PT1H
BEGIN:VTIMEZONE
TZID:Asia/Shanghai
BEGIN:STANDARD
TZOFFSETFROM:+0800
TZOFFSETTO:+0800
TZNAME:CST
DTSTART:20240101T000000
END:STANDARD
END:VTIMEZONE
BEGIN:VEVENT
DTSTART;TZID=Asia/Shanghai:20250626T083000
DTEND;TZID=Asia/Shanghai:20250626T170000
DTSTAMP:20260421T155701
CREATED:20250609T045826Z
LAST-MODIFIED:20250725T014432Z
UID:2751-1750926600-1750957200@www.seasia-cdx.com
SUMMARY:Supply Chain Decarbonization Fundamentals
DESCRIPTION:
URL:https://www.seasia-cdx.com/event/supply-chain-decarbonization-fundamentals/
LOCATION:Marco Polo Ortigas\, Manila\, Philippines
CATEGORIES:Training
ATTACH;FMTTYPE=image/jpeg:https://www.seasia-cdx.com/wp-content/uploads/2025/06/Banner.jpg
END:VEVENT
END:VCALENDAR