BEGIN:VCALENDAR
VERSION:2.0
PRODID:-//SEAsia-CDx - ECPv6.15.17.1//NONSGML v1.0//EN
CALSCALE:GREGORIAN
METHOD:PUBLISH
X-WR-CALNAME:SEAsia-CDx
X-ORIGINAL-URL:https://www.seasia-cdx.com
X-WR-CALDESC:Events for SEAsia-CDx
REFRESH-INTERVAL;VALUE=DURATION:PT1H
X-Robots-Tag:noindex
X-PUBLISHED-TTL:PT1H
BEGIN:VTIMEZONE
TZID:Asia/Krasnoyarsk
BEGIN:STANDARD
TZOFFSETFROM:+0700
TZOFFSETTO:+0700
TZNAME:+07
DTSTART:20240101T000000
END:STANDARD
END:VTIMEZONE
BEGIN:VEVENT
DTSTART;TZID=Asia/Krasnoyarsk:20251209T130000
DTEND;TZID=Asia/Krasnoyarsk:20251209T134500
DTSTAMP:20260420T094309
CREATED:20251118T013505Z
LAST-MODIFIED:20251118T071521Z
UID:5441-1765285200-1765287900@www.seasia-cdx.com
SUMMARY:Stakeholder Engagement Events Webinar Series: Twinning for Decarbonization - Indonesia
DESCRIPTION:Indonesia’s decarbonization journey is shaped by diverse regional contexts and strong government involvement in energy investment. As industries seek locally tailored\, affordable low-carbon solutions\, partnerships and peer learning become essential. \nUnder the Twinning Arrangements for Decarbonization for Southeast Asia (Regional) Project (Twinning Project)\, the Southeast Asia Energy Transition Partnership (ETP) hopes to promote low-carbon approaches and technologies by convening like-minded organizations as ‘twins’ or clusters that can share knowledge and best practices in the region. Based on its existing collaboration with the Powering Past Coal Alliance (PPCA)\, ETP is actively considering sub-national governments for inclusion as ‘twins’ under the Project\, along with other parties such as active industry associations and financiers. \nHosted by ETP and powered by the Southeast Asia Corporate Decarbonization Exchange (CDx)\, this 45-minute Stakeholder Engagement Event (SEE) webinar will introduce the Twinning Project and highlight a local success story that demonstrates what practical decarbonization looks like in the Indonesian context. \n  \nObjectives \n\nIntroduce and explain the Twinning Project as a platform for collaboration\, capacity-building\, and financing support – and invite interested organizations to participate.\nShowcase a real-world decarbonization case study from Indonesia\, focusing on one of the target sectors\, to demonstrate practical\, scalable low-carbon solutions adapted to local conditions.\nHighlight how Indonesia enterprises and subnational partners can leverage partnerships and localized innovation to accelerate decarbonization across regions.
URL:https://www.seasia-cdx.com/event/stakeholder-engagement-events-webinar-series-twinning-for-decarbonization-indonesia/
CATEGORIES:Webinar
ATTACH;FMTTYPE=image/jpeg:https://www.seasia-cdx.com/wp-content/uploads/2025/11/ETP-Twinning-for-Decarbonization-Webinar-Social-Media-Banner-Template.jpg
ORGANIZER;CN="CDx":MAILTO:support@seasia-cdx.com
END:VEVENT
END:VCALENDAR