BEGIN:VCALENDAR
VERSION:2.0
PRODID:-//SEAsia-CDx - ECPv6.15.17.1//NONSGML v1.0//EN
CALSCALE:GREGORIAN
METHOD:PUBLISH
X-WR-CALNAME:SEAsia-CDx
X-ORIGINAL-URL:https://www.seasia-cdx.com
X-WR-CALDESC:Events for SEAsia-CDx
REFRESH-INTERVAL;VALUE=DURATION:PT1H
X-Robots-Tag:noindex
X-PUBLISHED-TTL:PT1H
BEGIN:VTIMEZONE
TZID:Asia/Krasnoyarsk
BEGIN:STANDARD
TZOFFSETFROM:+0700
TZOFFSETTO:+0700
TZNAME:+07
DTSTART:20240101T000000
END:STANDARD
END:VTIMEZONE
BEGIN:VEVENT
DTSTART;TZID=Asia/Krasnoyarsk:20251210T070000
DTEND;TZID=Asia/Krasnoyarsk:20251210T074500
DTSTAMP:20260420T112142
CREATED:20251118T013622Z
LAST-MODIFIED:20251118T071555Z
UID:5445-1765350000-1765352700@www.seasia-cdx.com
SUMMARY:Stakeholder Engagement Events Webinar Series: Twinning for Decarbonization - Philippines
DESCRIPTION:The Philippines has made strong policy commitments toward net-zero\, yet implementation at the SME level remains slow. Many businesses struggle to convert energy-efficiency targets and renewable energy ambitions into tangible projects. This webinar aims to bridge that gap – showing how collaboration and local innovation can translate national goals into business action. \nUnder the Twinning Arrangements for Decarbonization for Southeast Asia (Regional) Project (Twinning Project)\, the Southeast Asia Energy Transition Partnership (ETP) hopes to promote low-carbon approaches and technologies by convening like-minded organizations as ‘twins’ or clusters that can share knowledge and best practices in the region. Based on its existing collaboration with the Powering Past Coal Alliance (PPCA)\, ETP is actively considering sub-national governments for inclusion as ‘twins’ under the Project\, along with other parties such as active industry associations and financiers. \nHosted by ETP and powered by the Southeast Asia Corporate Decarbonization Exchange (CDx)\, this 45-minute Stakeholder Engagement Event (SEE) webinar will introduce the Twinning Project and highlight a local success story that demonstrates what practical decarbonization looks like in the Philippine context. \nObjectives \n\nIntroduce and explain the Twinning Project as a platform for collaboration\, capacity-building\, and financing support – and invite interested organizations to participate.\nShowcase a real-world decarbonization case study from the Philippines\, focusing on SMEs in the food and beverage or commercial-building sectors\, to demonstrate achievable\, cost-effective climate solutions.\nHighlight how Philippine enterprises and LGUs can translate national energy-efficiency and decarbonization policies into practical\, on the ground action.
URL:https://www.seasia-cdx.com/event/stakeholder-engagement-events-webinar-series-twinning-for-decarbonization-indonesia-copy/
CATEGORIES:Webinar
ATTACH;FMTTYPE=image/jpeg:https://www.seasia-cdx.com/wp-content/uploads/2025/11/ETP-Twinning-for-Decarbonization-Webinar-Social-Media-Banner-Template.jpg
ORGANIZER;CN="CDx":MAILTO:support@seasia-cdx.com
END:VEVENT
END:VCALENDAR