BEGIN:VCALENDAR
VERSION:2.0
PRODID:-//SEAsia-CDx - ECPv6.15.17.1//NONSGML v1.0//EN
CALSCALE:GREGORIAN
METHOD:PUBLISH
X-WR-CALNAME:SEAsia-CDx
X-ORIGINAL-URL:https://www.seasia-cdx.com
X-WR-CALDESC:Events for SEAsia-CDx
REFRESH-INTERVAL;VALUE=DURATION:PT1H
X-Robots-Tag:noindex
X-PUBLISHED-TTL:PT1H
BEGIN:VTIMEZONE
TZID:Asia/Krasnoyarsk
BEGIN:STANDARD
TZOFFSETFROM:+0700
TZOFFSETTO:+0700
TZNAME:+07
DTSTART:20240101T000000
END:STANDARD
END:VTIMEZONE
BEGIN:VEVENT
DTSTART;VALUE=DATE:20251001
DTEND;VALUE=DATE:20251003
DTSTAMP:20260420T080217
CREATED:20250716T101507Z
LAST-MODIFIED:20250918T120751Z
UID:4253-1759276800-1759449599@www.seasia-cdx.com
SUMMARY:CDx Summit 2025
DESCRIPTION:You are unauthorized to view this page. Please sign up here or log in below: \n  \n  \n            \n\n                       \n            \n        \n                              Username\n        \n        \n      \n      \n        \n          Password\n          \n            \n            \n              \n            \n          \n        \n      \n            \n         Remember Me\n      \n       \n      \n        \n        \n        \n        \n      \n    \n     \n    \n        \n          Forgot Password
URL:https://www.seasia-cdx.com/event/cdx-summit-2025/
LOCATION:Bangkok\, Thailand\, Thailand
CATEGORIES:Summit
ATTACH;FMTTYPE=image/png:https://www.seasia-cdx.com/wp-content/uploads/2025/07/Screenshot-2025-09-10-at-2.16.20-PM.png
ORGANIZER;CN="CDx":MAILTO:support@seasia-cdx.com
END:VEVENT
END:VCALENDAR