BEGIN:VCALENDAR
VERSION:2.0
PRODID:-//SEAsia-CDx - ECPv6.15.17.1//NONSGML v1.0//EN
CALSCALE:GREGORIAN
METHOD:PUBLISH
X-WR-CALNAME:SEAsia-CDx
X-ORIGINAL-URL:https://www.seasia-cdx.com
X-WR-CALDESC:Events for SEAsia-CDx
REFRESH-INTERVAL;VALUE=DURATION:PT1H
X-Robots-Tag:noindex
X-PUBLISHED-TTL:PT1H
BEGIN:VTIMEZONE
TZID:Asia/Bangkok
BEGIN:STANDARD
TZOFFSETFROM:+0700
TZOFFSETTO:+0700
TZNAME:+07
DTSTART:20240101T000000
END:STANDARD
END:VTIMEZONE
BEGIN:VEVENT
DTSTART;VALUE=DATE:20250928
DTEND;VALUE=DATE:20251005
DTSTAMP:20260420T061811
CREATED:20250429T074854Z
LAST-MODIFIED:20250725T015337Z
UID:391-1759017600-1759622399@www.seasia-cdx.com
SUMMARY:Bangkok Climate Action Week
DESCRIPTION:
URL:https://www.seasia-cdx.com/event/bangkok-climate-action-week/
LOCATION:Bangkok\, Thailand\, Thailand
CATEGORIES:Workshop
ATTACH;FMTTYPE=image/webp:https://www.seasia-cdx.com/wp-content/uploads/2025/04/img_bangkok_climate_action_week.webp
END:VEVENT
END:VCALENDAR