BEGIN:VCALENDAR
VERSION:2.0
PRODID:-//SEAsia-CDx - ECPv6.15.20//NONSGML v1.0//EN
CALSCALE:GREGORIAN
METHOD:PUBLISH
X-WR-CALNAME:SEAsia-CDx
X-ORIGINAL-URL:https://www.seasia-cdx.com
X-WR-CALDESC:Events for SEAsia-CDx
REFRESH-INTERVAL;VALUE=DURATION:PT1H
X-Robots-Tag:noindex
X-PUBLISHED-TTL:PT1H
BEGIN:VTIMEZONE
TZID:Asia/Shanghai
BEGIN:STANDARD
TZOFFSETFROM:+0800
TZOFFSETTO:+0800
TZNAME:CST
DTSTART:20240101T000000
END:STANDARD
END:VTIMEZONE
BEGIN:VEVENT
DTSTART;TZID=Asia/Shanghai:20250602T090000
DTEND;TZID=Asia/Shanghai:20250606T173000
DTSTAMP:20260421T172854
CREATED:20250609T052646Z
LAST-MODIFIED:20250725T014350Z
UID:2773-1748854800-1749231000@www.seasia-cdx.com
SUMMARY:Asia Clean Energy Forum (ACEF) 2025
DESCRIPTION:
URL:https://www.seasia-cdx.com/event/asia-clean-energy-forum-acef-2025/
LOCATION:ADB Headquarters\, Manila\, Philippines
CATEGORIES:Conference
ATTACH;FMTTYPE=image/jpeg:https://www.seasia-cdx.com/wp-content/uploads/2025/06/Asia_clean_Energy_Forum_ADB.jpg
END:VEVENT
END:VCALENDAR