BEGIN:VCALENDAR
VERSION:2.0
PRODID:-//SEAsia-CDx - ECPv6.15.17.1//NONSGML v1.0//EN
CALSCALE:GREGORIAN
METHOD:PUBLISH
X-WR-CALNAME:SEAsia-CDx
X-ORIGINAL-URL:https://www.seasia-cdx.com
X-WR-CALDESC:Events for SEAsia-CDx
REFRESH-INTERVAL;VALUE=DURATION:PT1H
X-Robots-Tag:noindex
X-PUBLISHED-TTL:PT1H
BEGIN:VTIMEZONE
TZID:Asia/Bangkok
BEGIN:STANDARD
TZOFFSETFROM:+0700
TZOFFSETTO:+0700
TZNAME:+07
DTSTART:20240101T000000
END:STANDARD
END:VTIMEZONE
BEGIN:VEVENT
DTSTART;VALUE=DATE:20250702
DTEND;VALUE=DATE:20250705
DTSTAMP:20260419T205828
CREATED:20250609T052937Z
LAST-MODIFIED:20250624T051508Z
UID:2778-1751414400-1751673599@www.seasia-cdx.com
SUMMARY:ASEAN Sustainable Energy Week (ASEW) 2025
DESCRIPTION:
URL:https://www.seasia-cdx.com/event/asean-sustainable-energy-week-asew-2025/
LOCATION:Queen Sirikit National Convention Center (QSNCC)\, Bangkok\, Thailand\, Queen Sirikit National Convention Center (QSNCC)\, Bangkok\, Thailand
CATEGORIES:Exhibition & Conference
ATTACH;FMTTYPE=image/jpeg:https://www.seasia-cdx.com/wp-content/uploads/2025/06/ASEAN-Sustainable-Energy-Week-ASEW-2025.jpg
END:VEVENT
END:VCALENDAR